BEGIN:VCALENDAR
VERSION:2.0
PRODID:-//jEvents 2.0 for Joomla//EN
CALSCALE:GREGORIAN
METHOD:PUBLISH
BEGIN:VEVENT
UID:8d48906cc20400e1f6787fd5c1c6ef09
CATEGORIES:Ferien
CREATED:20240905T103157
SUMMARY:Pfingstferien
DESCRIPTION:
DTSTAMP:20260423T104455Z
DTSTART;VALUE=DATE:20250609
DTEND;VALUE=DATE:20250621
SEQUENCE:0
TRANSP:OPAQUE
END:VEVENT
END:VCALENDAR