BEGIN:VCALENDAR
VERSION:2.0
PRODID:-//jEvents 2.0 for Joomla//EN
CALSCALE:GREGORIAN
METHOD:PUBLISH
BEGIN:VEVENT
UID:789f94077ce4d9dd0a9f24003eb05935
CATEGORIES:K2
CREATED:20240905T103305
SUMMARY:Mündliches Abitur
DESCRIPTION:
DTSTAMP:20260423T091159Z
DTSTART;VALUE=DATE:20250630
DTEND;VALUE=DATE:20250703
SEQUENCE:0
TRANSP:OPAQUE
END:VEVENT
END:VCALENDAR