BEGIN:VCALENDAR
VERSION:2.0
PRODID:-//jEvents 2.0 for Joomla//EN
CALSCALE:GREGORIAN
METHOD:PUBLISH
BEGIN:VEVENT
UID:91758d26d30a8da3ea2941317609b26f
CATEGORIES:Ferien
CREATED:20240905T103422
SUMMARY:Sommerferien
DESCRIPTION:
DTSTAMP:20260421T065544Z
DTSTART;VALUE=DATE:20250731
DTEND;VALUE=DATE:20250913
SEQUENCE:0
TRANSP:OPAQUE
END:VEVENT
END:VCALENDAR