BEGIN:VCALENDAR
VERSION:2.0
PRODID:-//jEvents 2.0 for Joomla//EN
CALSCALE:GREGORIAN
METHOD:PUBLISH
BEGIN:VEVENT
UID:84208d39ca76bc66216fb91ca4f596f8
CATEGORIES:Veranstaltungen
CREATED:20240913T141517
SUMMARY:Schulhock
DESCRIPTION:
DTSTAMP:20260423T105503Z
DTSTART:20250729T170000Z
SEQUENCE:0
TRANSP:OPAQUE
END:VEVENT
END:VCALENDAR