BEGIN:VCALENDAR
VERSION:2.0
PRODID:-//jEvents 2.0 for Joomla//EN
CALSCALE:GREGORIAN
METHOD:PUBLISH
BEGIN:VEVENT
UID:4965b1f2fc8779cda1dbe89ed209eb8e
CATEGORIES:Veranstaltungen
CREATED:20240913T142923
SUMMARY:Schulkonzert
DESCRIPTION:
DTSTAMP:20260423T105503Z
DTSTART:20250604T183000Z
SEQUENCE:0
TRANSP:OPAQUE
END:VEVENT
END:VCALENDAR