BEGIN:VCALENDAR
VERSION:2.0
PRODID:-//jEvents 2.0 for Joomla//EN
CALSCALE:GREGORIAN
METHOD:PUBLISH
BEGIN:VEVENT
UID:fdf0e6e8dc12781cb9d30ed05d9b7a25
CATEGORIES:K2
CREATED:20241125T141933
SUMMARY:Jg2 Abiturergebnisse, Zeugnisausgabe
DESCRIPTION:
DTSTAMP:20260421T133101Z
DTSTART;VALUE=DATE:20250626
DTEND;VALUE=DATE:20250627
SEQUENCE:0
TRANSP:OPAQUE
END:VEVENT
END:VCALENDAR