BEGIN:VCALENDAR
VERSION:2.0
PRODID:-//jEvents 2.0 for Joomla//EN
CALSCALE:GREGORIAN
METHOD:PUBLISH
BEGIN:VEVENT
UID:b88377dbfb68c78d18ef20c07552ddd8
CATEGORIES:Sport
CREATED:20241125T142105
SUMMARY:Bundesjugendspiele
DESCRIPTION:
DTSTAMP:20260423T091836Z
DTSTART;VALUE=DATE:20250716
DTEND;VALUE=DATE:20250717
SEQUENCE:0
TRANSP:OPAQUE
END:VEVENT
END:VCALENDAR