BEGIN:VCALENDAR
VERSION:2.0
PRODID:-//jEvents 2.0 for Joomla//EN
CALSCALE:GREGORIAN
METHOD:PUBLISH
BEGIN:VEVENT
UID:08832d1608db99d98cef1e9f13503ea1
CATEGORIES:Exkursionen
CREATED:20241125T142156
SUMMARY:Parisfahrt 10er
DESCRIPTION:
DTSTAMP:20260421T114219Z
DTSTART:20250721T074500Z
DTEND;VALUE=DATE:20250724
SEQUENCE:0
TRANSP:OPAQUE
END:VEVENT
END:VCALENDAR