BEGIN:VCALENDAR
VERSION:2.0
PRODID:-//jEvents 2.0 for Joomla//EN
CALSCALE:GREGORIAN
METHOD:PUBLISH
BEGIN:VEVENT
UID:af7811d40512f38f123ce6f7fd34bb4c
CATEGORIES:Lehrer
CREATED:20250506T202257
SUMMARY:Notenkonferenz Jg2
DESCRIPTION:
DTSTAMP:20260423T105511Z
DTSTART;VALUE=DATE:20250623
DTEND;VALUE=DATE:20250624
SEQUENCE:0
TRANSP:OPAQUE
END:VEVENT
END:VCALENDAR