BEGIN:VCALENDAR
VERSION:2.0
PRODID:-//jEvents 2.0 for Joomla//EN
CALSCALE:GREGORIAN
METHOD:PUBLISH
BEGIN:VEVENT
UID:7f20ff97a341483e2a2d08ba5459abb5
CATEGORIES:Allg. Termine
CREATED:20250506T202520
SUMMARY:Schulkonferenz
DESCRIPTION:
DTSTAMP:20260421T132014Z
DTSTART:20250605T173000Z
SEQUENCE:0
TRANSP:OPAQUE
END:VEVENT
END:VCALENDAR