BEGIN:VCALENDAR
VERSION:2.0
PRODID:-//jEvents 2.0 for Joomla//EN
CALSCALE:GREGORIAN
METHOD:PUBLISH
BEGIN:VEVENT
UID:ae80483799d18ca2059790bc75a2cd80
CATEGORIES:Lehrer
CREATED:20250512T082113
SUMMARY:Konferenz Abiturergebnisse Jg2
DESCRIPTION:
DTSTAMP:20260423T104454Z
DTSTART:20250625T134500Z
SEQUENCE:0
TRANSP:OPAQUE
END:VEVENT
END:VCALENDAR