BEGIN:VCALENDAR
VERSION:2.0
PRODID:-//jEvents 2.0 for Joomla//EN
CALSCALE:GREGORIAN
METHOD:PUBLISH
BEGIN:VEVENT
UID:d572f81589b56ab7fdca2332b111480c
CATEGORIES:Prüfungen
CREATED:20250911T132304
SUMMARY:Lernstand Klasse 5 Deutsch
DESCRIPTION:
DTSTAMP:20260421T065112Z
DTSTART:20250924T074500Z
DTEND:20250924T091500Z
SEQUENCE:0
TRANSP:OPAQUE
END:VEVENT
END:VCALENDAR