BEGIN:VCALENDAR
VERSION:2.0
PRODID:-//jEvents 2.0 for Joomla//EN
CALSCALE:GREGORIAN
METHOD:PUBLISH
BEGIN:VEVENT
UID:9fe62f4eb9c0df9556985dddca761e32
CATEGORIES:Prüfungen
CREATED:20250911T132407
SUMMARY:Lernstand Klasse 5 Mathe
DESCRIPTION:
DTSTAMP:20260421T065112Z
DTSTART:20250929T074500Z
DTEND:20250929T094500Z
SEQUENCE:0
TRANSP:OPAQUE
END:VEVENT
END:VCALENDAR