BEGIN:VCALENDAR
VERSION:2.0
PRODID:-//jEvents 2.0 for Joomla//EN
CALSCALE:GREGORIAN
METHOD:PUBLISH
BEGIN:VEVENT
UID:73f4478468a1e35a7facad0b13635093
CATEGORIES:Prüfungen
CREATED:20250911T132451
SUMMARY:Rechtschreibtest Klasse 5
DESCRIPTION:
DTSTAMP:20260421T065113Z
DTSTART:20250926T093000Z
DTEND:20250926T101500Z
SEQUENCE:0
TRANSP:OPAQUE
END:VEVENT
END:VCALENDAR