BEGIN:VCALENDAR
VERSION:2.0
PRODID:-//jEvents 2.0 for Joomla//EN
CALSCALE:GREGORIAN
METHOD:PUBLISH
BEGIN:VEVENT
UID:429aefceb01e19baecdf9664a33ee1d7
CATEGORIES:Veranstaltungen
CREATED:20250912T130418
SUMMARY:Begrüßung der neuen 5. Klassen
DESCRIPTION:
DTSTAMP:20260421T065614Z
DTSTART:20250916T150000Z
SEQUENCE:0
TRANSP:OPAQUE
END:VEVENT
END:VCALENDAR