BEGIN:VCALENDAR
VERSION:2.0
PRODID:-//jEvents 2.0 for Joomla//EN
CALSCALE:GREGORIAN
METHOD:PUBLISH
BEGIN:VEVENT
UID:9c586b9966cc09f5964086398c0bbeb9
CATEGORIES:Exkursionen
CREATED:20250912T130553
SUMMARY:Studienfahrten J2
DESCRIPTION:
DTSTAMP:20260421T065037Z
DTSTART;VALUE=DATE:20250922
DTEND;VALUE=DATE:20250927
SEQUENCE:0
TRANSP:OPAQUE
END:VEVENT
END:VCALENDAR