BEGIN:VCALENDAR
VERSION:2.0
PRODID:-//jEvents 2.0 for Joomla//EN
CALSCALE:GREGORIAN
METHOD:PUBLISH
BEGIN:VEVENT
UID:07af4910dfcb0b89e5757ba4fbfedad0
CATEGORIES:Lehrer
CREATED:20250912T130638
SUMMARY:Sprengelsitzung Sport
DESCRIPTION:
DTSTAMP:20260421T065520Z
DTSTART:20250924T134900Z
SEQUENCE:0
TRANSP:OPAQUE
END:VEVENT
END:VCALENDAR