BEGIN:VCALENDAR
VERSION:2.0
PRODID:-//jEvents 2.0 for Joomla//EN
CALSCALE:GREGORIAN
METHOD:PUBLISH
BEGIN:VEVENT
UID:52ad2d6fc93a293d968f044daa08cedc
CATEGORIES:Feiertage
CREATED:20250913T084553
SUMMARY:hl. drei Könige
DESCRIPTION:
DTSTAMP:20260421T013555Z
DTSTART;VALUE=DATE:20260106
DTEND;VALUE=DATE:20260107
SEQUENCE:0
TRANSP:OPAQUE
END:VEVENT
END:VCALENDAR