BEGIN:VCALENDAR
VERSION:2.0
PRODID:-//jEvents 2.0 for Joomla//EN
CALSCALE:GREGORIAN
METHOD:PUBLISH
BEGIN:VEVENT
UID:dd08877a5bce3f3b9acefab433c5122a
CATEGORIES:Lehrer
CREATED:20250921T195257
SUMMARY:FachKo Deutsch
DESCRIPTION:
DTSTAMP:20260421T065113Z
DTSTART:20251022T134000Z
SEQUENCE:0
TRANSP:OPAQUE
END:VEVENT
END:VCALENDAR