BEGIN:VCALENDAR
VERSION:2.0
PRODID:-//jEvents 2.0 for Joomla//EN
CALSCALE:GREGORIAN
METHOD:PUBLISH
BEGIN:VEVENT
UID:762c096d264132ab9ac167fa28debf6a
CATEGORIES:Lehrer
CREATED:20250921T195432
SUMMARY:Sprengelsitzung Deutsch
DESCRIPTION:
DTSTAMP:20260421T051441Z
DTSTART:20251105T140000Z
SEQUENCE:0
TRANSP:OPAQUE
END:VEVENT
END:VCALENDAR