BEGIN:VCALENDAR
VERSION:2.0
PRODID:-//jEvents 2.0 for Joomla//EN
CALSCALE:GREGORIAN
METHOD:PUBLISH
BEGIN:VEVENT
UID:961a87cb9cb02eadbeaee8ad27e90788
CATEGORIES:Lehrer
CREATED:20250921T195510
SUMMARY:Anträge STEWI
DESCRIPTION:
DTSTAMP:20260421T051441Z
DTSTART;VALUE=DATE:20251103
DTEND;VALUE=DATE:20251104
SEQUENCE:0
TRANSP:OPAQUE
END:VEVENT
END:VCALENDAR