BEGIN:VCALENDAR
VERSION:2.0
PRODID:-//jEvents 2.0 for Joomla//EN
CALSCALE:GREGORIAN
METHOD:PUBLISH
BEGIN:VEVENT
UID:9bb2dfa660d29a363a484267d7892f8e
CATEGORIES:Lehrer
CREATED:20250921T200403
SUMMARY:letzte Möglichkeit STEWI-Anträge
DESCRIPTION:
DTSTAMP:20260421T013555Z
DTSTART;VALUE=DATE:20260107
DTEND;VALUE=DATE:20260108
SEQUENCE:0
TRANSP:OPAQUE
END:VEVENT
END:VCALENDAR